Workbook

Sheet DISCLAIMER READ ME
A1: Real Estate Calculator Disclaimer By using this online real estate calculator (the "Calculator"), you acknowledge and agree to the following: No Warranty or Representation: The Calculator is provided "as is" and without any warranties, either express or implied. We do not warrant or guarantee the accuracy, adequacy, timeliness, reliability, completeness, or usefulness of any of the results provided by the Calculator. All information is provided on an "as is" basis without any representation or endorsement made. Limitation of Liability: Under no circumstances will we be liable for any loss or damage, including without limitation, indirect or consequential loss or damage, or any loss or damage whatsoever arising from or in connection with the use of the Calculator. No Professional Advice: The Calculator is intended for general informational purposes only and should not be relied upon as professional real estate or financial advice. Always consult with a qualified professional before making any decisions based on the information provided by the Calculator. User's Responsibility: It is your responsibility to evaluate the accuracy, completeness, or usefulness of any information, opinion, advice, or content provided in connection with or otherwise available through the Calculator. Please seek the advice of professionals, as appropriate, regarding the evaluation of any specific information, opinion, advice, or content. No Guarantee: The estimates provided by the Calculator are hypothetical in nature, and actual results may vary. We cannot and do not guarantee that the Calculator will be available at all times, or that it will always function as intended. By continuing to use the Calculator, you acknowledge that you have read, understood, and agreed to be bound by this disclaimer.

Sheet Enter Data Here
E4: Rental Property Underwriting Tool
E7: Analysis Instruction:
D10: Property Purchase Information | I10: Property Information
D12: Purchase Price | F12: 150000 | J12: Property Address
D14: Closing Costs | F14: 5000 | J14: After Repair Value | P14: 200000
D16: Due Diligence Expenses | F16: 2000
D18: Repair Costs to Make Rent Ready | F18: 20000 | I18: Monthly Income Information
D20: Holding Costs Until Rented | F20: 3000 | J20: Monthly Rent | L20: 2000 | N20: Is this a commercial property? | P20: no
D22: All-In Total Cost | F22: =F12+F14+F16+F18+F20 -> 180000 | J22: Other Monthly Income | L22: 0 | N22: Total Monthly Income | P22: =L20+L22 -> 2000
D25: Loan Information | I25: Stabilized Monthly Expense Information
D27: Lender Information | E27: optional | J27: Monthly Loan P&I ($) | L27: =F40 -> 948.95235 | N27: Repairs & Maintenance (%) | P27: 0.05 | Q27: =P27*L20 -> 100
D29: Down Payment Percentage | F29: 0.2 | J29: Monthly Property Insurance ($) | L29: 100 | N29: Utilities ($) | P29: 10
D31: Loan Amount | F31: =F12*(1-F29) -> 120000 | J31: Monthly Property Tax ($) | L31: 150 | N31: Vacancy Rate (%) | P31: 0.05 | Q31: =P31*L20 -> 100
D33: Loan Interest Rate | F33: 0.05 | J33: "Other" Insurance Costs ($) | L33: 10 | N33: Capital Expenditure (%) | P33: 0.1 | Q33: =L20*P33 -> 200
D35: Loan Length (years) | F35: 15 | J35: Monthly HOA Fee ($) | L35: 10 | N35: Pest Control ($) | P35: 10
D37: PMI required? | F37: no | J37: Monthly Mortgage Insurance ($) | L37: ='Ignore This'!L4 -> $0 | N37: Landscaping ($) | P37: 10
D39: Total Cash Needed | F39: =F12*F29+F14+F16+F18+F20 -> 60000 | J39: Property Management Fees (%) | L39: 0.1 | M39: =L39*L20 -> 200 | N39: Other ($) | P39: 10
D40: Monthly Loan (P&I) Payment | F40: =PMT(F33/12,F35*12,-F31) -> 948.95235
B44: Cash Flow and ROI Financial Projections | I44: Future Assumptions
D46: Total Monthly Income | F46: =E65 -> 1900 | J46: Annual Rent Increase (%) | L46: 0.03 | N46: Future Cap Rate at Sale* | P46: 0.05
D48: Total Monthly Expenses | F48: =E80 -> 1733.9524 | J48: Annual Property Value Increase (%) | L48: 0.03 | N48: Future Sales Expense (%) | P48: 0.06
L49: =H13*(1+'Enter Data Here'!$L$48) -> 0
D50: Total Monthly Cash Flow | F50: =E82 -> 166.04765 | J50: Operating Expenses Increase | L50: 0.03
D52: Total Annual Cash Flow | F52: =F82 -> 1992.5718
D54: Cash on Cash Return on Investment | F54: =F83 -> 0.03320953 | N54: *Commercial Real Estate Only
D59: Year One Projections | J59: Cash Flow Over 30 Years
E61: Monthly | F61: Annual
D62: Rent | E62: =L20 -> 2000 | F62: =E62*12 -> 24000
D63: Other Income | E63: =L22 -> 0 | F63: =E63*12 -> 0
D64: -Vacancy | E64: =-P31*(L20+L22) -> -100 | F64: =E64*12 -> -1200
D65: Total Income | E65: =sum(E62:E64) -> 1900 | F65: =sum(F62:F64) -> 22800
D67: Loan P&I | E67: =L27 -> 948.95235 | F67: =E67*12 -> 11387.428
D68: Property Insurance | E68: =L29 -> 100 | F68: =E68*12 -> 1200
D69: Property Taxes | E69: =L31 -> 150 | F69: =E69*12 -> 1800
D70: Other Insurance Costs | E70: =L33 -> 10 | F70: =E70*12 -> 120
D71: HOA Fees | E71: =L35 -> 10 | F71: =E71*12 -> 120
D72: Mortgage Insurance | E72: =L37 -> $0 | F72: =E72*12 -> #VALUE!
D73: Property Management | E73: =E65*L39 -> 190 | F73: =E73*12 -> 2280
D74: Repairs and Maintenance | E74: =P27*E65 -> 95 | F74: =E74*12 -> 1140
D75: Utilities | E75: =P29 -> 10 | F75: =E75*12 -> 120
...

Sheet Annual Data 
B2: INCOME | C2: 1 | D2: 2 | E2: =D2+1 -> 3 | F2: =E2+1 -> 4 | G2: =F2+1 -> 5 | H2: =G2+1 -> 6 | I2: =H2+1 -> 7 | J2: =I2+1 -> 8 | K2: =J2+1 -> 9 | L2: =K2+1 -> 10 | ... AF2: =AE2+1 -> 30 | AG2: 31
B3: Annual Rent | C3: ='Enter Data Here'!L20*12 -> 24000 | D3: =C3*(1+'Ignore This'!$O$4) -> 24720 | E3: =D3*(1+'Ignore This'!$O$4) -> 25461.6 | F3: =E3*(1+'Ignore This'!$O$4) -> 26225.448 | G3: =F3*(1+'Ignore This'!$O$4) -> 27012.211 | H3: =G3*(1+'Ignore This'!$O$4) -> 27822.578 | I3: =H3*(1+'Ignore This'!$O$4) -> 28657.255 | J3: =I3*(1+'Ignore This'!$O$4) -> 29516.973 | K3: =J3*(1+'Ignore This'!$O$4) -> 30402.482 | ... AG3: =AF3*(1+'Ignore This'!$O$4) -> 58254.299
B4: Other Annual Income | C4: ='Enter Data Here'!L22*12 -> 0 | D4: =C4*(1+'Ignore This'!$O$4) -> 0 | E4: =D4*(1+'Ignore This'!$O$4) -> 0 | F4: =E4*(1+'Ignore This'!$O$4) -> 0 | G4: =F4*(1+'Ignore This'!$O$4) -> 0 | H4: =G4*(1+'Ignore This'!$O$4) -> 0 | I4: =H4*(1+'Ignore This'!$O$4) -> 0 | J4: =I4*(1+'Ignore This'!$O$4) -> 0 | K4: =J4*(1+'Ignore This'!$O$4) -> 0 | ... AG4: =AF4*(1+'Ignore This'!$O$4) -> 0
B5: Less Vacancy Rate | C5: =-'Enter Data Here'!$P$31*(C3+C4) -> -1200 | D5: =-'Enter Data Here'!$P$31*(D3+D4) -> -1236 | E5: =-'Enter Data Here'!$P$31*(E3+E4) -> -1273.08 | F5: =-'Enter Data Here'!$P$31*(F3+F4) -> -1311.2724 | G5: =-'Enter Data Here'!$P$31*(G3+G4) -> -1350.6106 | H5: =-'Enter Data Here'!$P$31*(H3+H4) -> -1391.1289 | I5: =-'Enter Data Here'!$P$31*(I3+I4) -> -1432.8628 | J5: =-'Enter Data Here'!$P$31*(J3+J4) -> -1475.8486 | ... AG5: =-'Enter Data Here'!$P$31*(AG3+AG4) -> -2912.715
B6: Total Annual Income | C6: =sum(C3:C5) -> 22800 | D6: =sum(D3:D5) -> 23484 | E6: =sum(E3:E5) -> 24188.52 | F6: =sum(F3:F5) -> 24914.176 | G6: =sum(G3:G5) -> 25661.601 | H6: =sum(H3:H5) -> 26431.449 | I6: =sum(I3:I5) -> 27224.392 | J6: =sum(J3:J5) -> 28041.124 | ... AG6: =sum(AG3:AG5) -> 55341.584
B7: EXPENSES
B8: ='Enter Data Here'!J27 -> Monthly Loan P&I ($) | C8: ='Enter Data Here'!L27*12 -> 11387.428 | D8: =C8 -> 11387.428 | E8: =D8 -> 11387.428 | F8: =E8 -> 11387.428 | G8: =F8 -> 11387.428 | H8: =G8 -> 11387.428 | I8: =H8 -> 11387.428 | J8: =I8 -> 11387.428 | K8: =J8 -> 11387.428 | ... AG8: =AF8 -> 11387.428
B9: ='Enter Data Here'!J29 -> Monthly Property Insurance ($) | C9: ='Enter Data Here'!L29*12 -> 1200 | D9: =C9*(1+'Ignore This'!$O$6) -> 1236 | E9: =D9*(1+'Ignore This'!$O$6) -> 1273.08 | F9: =E9*(1+'Ignore This'!$O$6) -> 1311.2724 | G9: =F9*(1+'Ignore This'!$O$6) -> 1350.6106 | H9: =G9*(1+'Ignore This'!$O$6) -> 1391.1289 | I9: =H9*(1+'Ignore This'!$O$6) -> 1432.8628 | J9: =I9*(1+'Ignore This'!$O$6) -> 1475.8486 | K9: =J9*(1+'Ignore This'!$O$6) -> 1520.1241 | ... AG9: =AF9*(1+'Ignore This'!$O$6) -> 2912.715
B10: ='Enter Data Here'!J31 -> Monthly Property Tax ($) | C10: ='Enter Data Here'!L31*12 -> 1800 | D10: =C10*(1+'Ignore This'!$O$6) -> 1854 | E10: =D10*(1+'Ignore This'!$O$6) -> 1909.62 | F10: =E10*(1+'Ignore This'!$O$6) -> 1966.9086 | G10: =F10*(1+'Ignore This'!$O$6) -> 2025.9159 | H10: =G10*(1+'Ignore This'!$O$6) -> 2086.6933 | I10: =H10*(1+'Ignore This'!$O$6) -> 2149.2941 | J10: =I10*(1+'Ignore This'!$O$6) -> 2213.773 | K10: =J10*(1+'Ignore This'!$O$6) -> 2280.1861 | ... AG10: =AF10*(1+'Ignore This'!$O$6) -> 4369.0724
B11: ='Enter Data Here'!J33 -> "Other" Insurance Costs ($) | C11: ='Enter Data Here'!L33*12 -> 120 | D11: =C11*(1+'Ignore This'!$O$6) -> 123.6 | E11: =D11*(1+'Ignore This'!$O$6) -> 127.308 | F11: =E11*(1+'Ignore This'!$O$6) -> 131.12724 | G11: =F11*(1+'Ignore This'!$O$6) -> 135.06106 | H11: =G11*(1+'Ignore This'!$O$6) -> 139.11289 | I11: =H11*(1+'Ignore This'!$O$6) -> 143.28628 | J11: =I11*(1+'Ignore This'!$O$6) -> 147.58486 | K11: =J11*(1+'Ignore This'!$O$6) -> 152.01241 | ... AG11: =AF11*(1+'Ignore This'!$O$6) -> 291.2715
B12: ='Enter Data Here'!J35 -> Monthly HOA Fee ($) | C12: ='Enter Data Here'!L35*12 -> 120 | D12: =C12*(1+'Ignore This'!$O$6) -> 123.6 | E12: =D12*(1+'Ignore This'!$O$6) -> 127.308 | F12: =E12*(1+'Ignore This'!$O$6) -> 131.12724 | G12: =F12*(1+'Ignore This'!$O$6) -> 135.06106 | H12: =G12*(1+'Ignore This'!$O$6) -> 139.11289 | I12: =H12*(1+'Ignore This'!$O$6) -> 143.28628 | J12: =I12*(1+'Ignore This'!$O$6) -> 147.58486 | K12: =J12*(1+'Ignore This'!$O$6) -> 152.01241 | ... AG12: =AF12*(1+'Ignore This'!$O$6) -> 291.2715
B13: ='Enter Data Here'!J37 -> Monthly Mortgage Insurance ($) | C13: ='Enter Data Here'!L37*12 -> #VALUE! | D13: =C13*(1+'Ignore This'!$O$6) -> #VALUE! | E13: =D13*(1+'Ignore This'!$O$6) -> #VALUE! | F13: =E13*(1+'Ignore This'!$O$6) -> #VALUE! | G13: =F13*(1+'Ignore This'!$O$6) -> #VALUE! | H13: =G13*(1+'Ignore This'!$O$6) -> #VALUE! | I13: =H13*(1+'Ignore This'!$O$6) -> #VALUE! | J13: =I13*(1+'Ignore This'!$O$6) -> #VALUE! | K13: =J13*(1+'Ignore This'!$O$6) -> #VALUE! | ... AG13: =AF13*(1+'Ignore This'!$O$6) -> #VALUE!
B14: ='Enter Data Here'!J39 -> Property Management Fees (%) | C14: ='Enter Data Here'!$L$39*C6 -> 2280 | D14: =D6*'Enter Data Here'!$L$39 -> 2348.4 | E14: =E6*'Enter Data Here'!$L$39 -> 2418.852 | F14: =F6*'Enter Data Here'!$L$39 -> 2491.4176 | G14: =G6*'Enter Data Here'!$L$39 -> 2566.1601 | H14: =H6*'Enter Data Here'!$L$39 -> 2643.1449 | I14: =I6*'Enter Data Here'!$L$39 -> 2722.4392 | J14: =J6*'Enter Data Here'!$L$39 -> 2804.1124 | K14: =K6*'Enter Data Here'!$L$39 -> 2888.2358 | ... AG14: =AG6*'Enter Data Here'!$L$39 -> 5534.1584
B15: ='Enter Data Here'!N27 -> Repairs & Maintenance (%) | C15: ='Enter Data Here'!$P$27*C6 -> 1140 | D15: ='Enter Data Here'!$P$27*D6 -> 1174.2 | E15: ='Enter Data Here'!$P$27*E6 -> 1209.426 | F15: ='Enter Data Here'!$P$27*F6 -> 1245.7088 | G15: ='Enter Data Here'!$P$27*G6 -> 1283.08 | H15: ='Enter Data Here'!$P$27*H6 -> 1321.5724 | I15: ='Enter Data Here'!$P$27*I6 -> 1361.2196 | J15: ='Enter Data Here'!$P$27*J6 -> 1402.0562 | ... AG15: ='Enter Data Here'!$P$27*AG6 -> 2767.0792
B16: ='Enter Data Here'!N29 -> Utilities ($) | C16: ='Enter Data Here'!P29*12 -> 120 | D16: =C16*(1+'Ignore This'!$O$6) -> 123.6 | E16: =D16*(1+'Ignore This'!$O$6) -> 127.308 | F16: =E16*(1+'Ignore This'!$O$6) -> 131.12724 | G16: =F16*(1+'Ignore This'!$O$6) -> 135.06106 | H16: =G16*(1+'Ignore This'!$O$6) -> 139.11289 | I16: =H16*(1+'Ignore This'!$O$6) -> 143.28628 | J16: =I16*(1+'Ignore This'!$O$6) -> 147.58486 | K16: =J16*(1+'Ignore This'!$O$6) -> 152.01241 | ... AG16: =AF16*(1+'Ignore This'!$O$6) -> 291.2715
B17: ='Enter Data Here'!N33 -> Capital Expenditure (%) | C17: ='Enter Data Here'!$P$33*C6 -> 2280 | D17: ='Enter Data Here'!$P$33*D6 -> 2348.4 | E17: ='Enter Data Here'!$P$33*E6 -> 2418.852 | F17: ='Enter Data Here'!$P$33*F6 -> 2491.4176 | G17: ='Enter Data Here'!$P$33*G6 -> 2566.1601 | H17: ='Enter Data Here'!$P$33*H6 -> 2643.1449 | I17: ='Enter Data Here'!$P$33*I6 -> 2722.4392 | J17: ='Enter Data Here'!$P$33*J6 -> 2804.1124 | ... AG17: ='Enter Data Here'!$P$33*AG6 -> 5534.1584
B18: ='Enter Data Here'!N35 -> Pest Control ($) | C18: ='Enter Data Here'!P35*12 -> 120 | D18: =C18*(1+'Ignore This'!$O$6) -> 123.6 | E18: =D18*(1+'Ignore This'!$O$6) -> 127.308 | F18: =E18*(1+'Ignore This'!$O$6) -> 131.12724 | G18: =F18*(1+'Ignore This'!$O$6) -> 135.06106 | H18: =G18*(1+'Ignore This'!$O$6) -> 139.11289 | I18: =H18*(1+'Ignore This'!$O$6) -> 143.28628 | J18: =I18*(1+'Ignore This'!$O$6) -> 147.58486 | K18: =J18*(1+'Ignore This'!$O$6) -> 152.01241 | ... AG18: =AF18*(1+'Ignore This'!$O$6) -> 291.2715
B19: ='Enter Data Here'!N37 -> Landscaping ($) | C19: ='Enter Data Here'!P37*12 -> 120 | D19: =C19*(1+'Ignore This'!$O$6) -> 123.6 | E19: =D19*(1+'Ignore This'!$O$6) -> 127.308 | F19: =E19*(1+'Ignore This'!$O$6) -> 131.12724 | G19: =F19*(1+'Ignore This'!$O$6) -> 135.06106 | H19: =G19*(1+'Ignore This'!$O$6) -> 139.11289 | I19: =H19*(1+'Ignore This'!$O$6) -> 143.28628 | J19: =I19*(1+'Ignore This'!$O$6) -> 147.58486 | K19: =J19*(1+'Ignore This'!$O$6) -> 152.01241 | ... AG19: =AF19*(1+'Ignore This'!$O$6) -> 291.2715
B20: ='Enter Data Here'!N39 -> Other ($) | C20: ='Enter Data Here'!P39*12 -> 120 | D20: =C20*(1+'Ignore This'!$O$6) -> 123.6 | E20: =D20*(1+'Ignore This'!$O$6) -> 127.308 | F20: =E20*(1+'Ignore This'!$O$6) -> 131.12724 | G20: =F20*(1+'Ignore This'!$O$6) -> 135.06106 | H20: =G20*(1+'Ignore This'!$O$6) -> 139.11289 | I20: =H20*(1+'Ignore This'!$O$6) -> 143.28628 | J20: =I20*(1+'Ignore This'!$O$6) -> 147.58486 | K20: =J20*(1+'Ignore This'!$O$6) -> 152.01241 | ... AG20: =AF20*(1+'Ignore This'!$O$6) -> 291.2715
B22: Total Annual Income | C22: =C6 -> 22800 | D22: =D6 -> 23484 | E22: =E6 -> 24188.52 | F22: =F6 -> 24914.176 | G22: =G6 -> 25661.601 | H22: =H6 -> 26431.449 | I22: =I6 -> 27224.392 | J22: =J6 -> 28041.124 | ... AG22: =AG6 -> 55341.584
B23: Total Operating Expenses | C23: =sum(C9:C20) -> #VALUE! | D23: =sum(D9:D20) -> #VALUE! | E23: =sum(E9:E20) -> #VALUE! | F23: =sum(F9:F20) -> #VALUE! | G23: =sum(G9:G20) -> #VALUE! | H23: =sum(H9:H20) -> #VALUE! | I23: =sum(I9:I20) -> #VALUE! | J23: =sum(J9:J20) -> #VALUE! | ... AG23: =sum(AG9:AG20) -> #VALUE!
B24: Total Annual Expenses | C24: =sum(C8:C20) -> #VALUE! | D24: =sum(D8:D20) -> #VALUE! | E24: =sum(E8:E20) -> #VALUE! | F24: =sum(F8:F20) -> #VALUE! | G24: =sum(G8:G20) -> #VALUE! | H24: =sum(H8:H20) -> #VALUE! | I24: =sum(I8:I20) -> #VALUE! | J24: =sum(J8:J20) -> #VALUE! | ... AG24: =sum(AG8:AG20) -> #VALUE!
B26: Total Annual Cash Flow | C26: =C22-C24 -> #VALUE! | D26: =D22-D24 -> #VALUE! | E26: =E22-E24 -> #VALUE! | F26: =F22-F24 -> #VALUE! | G26: =G22-G24 -> #VALUE! | H26: =H22-H24 -> #VALUE! | I26: =I22-I24 -> #VALUE! | J26: =J22-J24 -> #VALUE! | ... AG26: =AG22-AG24 -> #VALUE!
B27: Annual Cash on Cash Return | C27: =C26/'Enter Data Here'!$F$39 -> #VALUE! | D27: =D26/'Enter Data Here'!$F$39 -> #VALUE! | E27: =E26/'Enter Data Here'!$F$39 -> #VALUE! | F27: =F26/'Enter Data Here'!$F$39 -> #VALUE! | G27: =G26/'Enter Data Here'!$F$39 -> #VALUE! | H27: =H26/'Enter Data Here'!$F$39 -> #VALUE! | I27: =I26/'Enter Data Here'!$F$39 -> #VALUE! | J27: =J26/'Enter Data Here'!$F$39 -> #VALUE! | ... AG27: =AG26/'Enter Data Here'!$F$39 -> #VALUE!
B30: Net Operating Income | C30: =C6-C23 -> #VALUE! | D30: =D6-D23 -> #VALUE! | E30: =E6-E23 -> #VALUE! | F30: =F6-F23 -> #VALUE! | G30: =G6-G23 -> #VALUE! | H30: =H6-H23 -> #VALUE! | I30: =I6-I23 -> #VALUE! | J30: =J6-J23 -> #VALUE! | ... AG30: =AG6-AG23 -> #VALUE!
B35: Hypothetical Future Sale Projections
B36: Time | C36: 1 | D36: =C36+1 -> 2 | E36: =D36+1 -> 3 | F36: =E36+1 -> 4 | G36: =F36+1 -> 5 | H36: =G36+1 -> 6 | I36: =H36+1 -> 7 | J36: =I36+1 -> 8 | K36: =J36+1 -> 9 | ... AG36: =AF36+1 -> 31
B37: Residential Property Value at End of Year | C37: =(1+'Enter Data Here'!L48)*'Enter Data Here'!P14 -> 206000 | D37: =C37*(1+'Ignore This'!$O$5) -> 212180 | E37: =D37*(1+'Ignore This'!$O$5) -> 218545.4 | F37: =E37*(1+'Ignore This'!$O$5) -> 225101.76 | G37: =F37*(1+'Ignore This'!$O$5) -> 231854.81 | H37: =G37*(1+'Ignore This'!$O$5) -> 238810.46 | I37: =H37*(1+'Ignore This'!$O$5) -> 245974.77 | J37: =I37*(1+'Ignore This'!$O$5) -> 253354.02 | K37: =J37*(1+'Ignore This'!$O$5) -> 260954.64 | ... AG37: =AF37*(1+'Ignore This'!$O$5) -> 500016.07
B38: Value based on Cap Rate | C38: =C30/'Enter Data Here'!$P$46 -> #VALUE! | D38: =D30/'Enter Data Here'!$P$46 -> #VALUE! | E38: =E30/'Enter Data Here'!$P$46 -> #VALUE! | F38: =F30/'Enter Data Here'!$P$46 -> #VALUE! | G38: =G30/'Enter Data Here'!$P$46 -> #VALUE! | H38: =H30/'Enter Data Here'!$P$46 -> #VALUE! | I38: =I30/'Enter Data Here'!$P$46 -> #VALUE! | J38: =J30/'Enter Data Here'!$P$46 -> #VALUE! | ... AF38: =AF30/'Enter Data Here'!$P$46 -> #VALUE!
B39: Property Value Used for Below Calculations | C39: =IF('Enter Data Here'!$P$20="yes",C38,C37) -> 206000 | D39: =IF('Enter Data Here'!$P$20="yes",D38,D37) -> 212180 | E39: =IF('Enter Data Here'!$P$20="yes",E38,E37) -> 218545.4 | F39: =IF('Enter Data Here'!$P$20="yes",F38,F37) -> 225101.76 | G39: =IF('Enter Data Here'!$P$20="yes",G38,G37) -> 231854.81 | H39: =IF('Enter Data Here'!$P$20="yes",H38,H37) -> 238810.46 | I39: =IF('Enter Data Here'!$P$20="yes",I38,I37) -> 245974.77 | J39: =IF('Enter Data Here'!$P$20="yes",J38,J37) -> 253354.02 | ... AG39: =IF('Enter Data Here'!$P$20="yes",AG38,AG37) -> 500016.07
B40: Loan Balance | C40: ='Ignore This'!F376 -> 119551.05 | D40: ='Ignore This'!G376 -> 114015.46 | E40: ='Ignore This'!I376 -> 108196.66 | F40: ='Ignore This'!J376 -> 102080.15 | G40: ='Ignore This'!K376 -> 95650.719 | H40: ='Ignore This'!L376 -> 88892.342 | I40: ='Ignore This'!M376 -> 81788.194 | J40: ='Ignore This'!N376 -> 74320.585 | K40: ='Ignore This'!O376 -> 66470.918 | L40: ='Ignore This'!P376 -> 58219.648 | ... AG40: ='Ignore This'!AK376
B41: Sales Costs if Sold | C41: =C37*'Enter Data Here'!$P$48 -> 12360 | D41: =D37*'Enter Data Here'!$P$48 -> 12730.8 | E41: =E37*'Enter Data Here'!$P$48 -> 13112.724 | F41: =F37*'Enter Data Here'!$P$48 -> 13506.106 | G41: =G37*'Enter Data Here'!$P$48 -> 13911.289 | H41: =H37*'Enter Data Here'!$P$48 -> 14328.628 | I41: =I37*'Enter Data Here'!$P$48 -> 14758.486 | J41: =J37*'Enter Data Here'!$P$48 -> 15201.241 | ... AG41: =AG37*'Enter Data Here'!$P$48 -> 30000.964
B42: Cummulative Cash Flow Made | C42: ='Ignore This'!J15 -> #VALUE! | D42: ='Ignore This'!K15 -> #VALUE! | E42: ='Ignore This'!L15 -> #VALUE! | F42: ='Ignore This'!M15 -> #VALUE! | G42: ='Ignore This'!N15 -> #VALUE! | H42: ='Ignore This'!O15 -> #VALUE! | I42: ='Ignore This'!P15 -> #VALUE! | J42: ='Ignore This'!Q15 -> #VALUE! | ... AG42: ='Ignore This'!AN15
B43: Proceeds after Sale (Not including invested $) | C43: =C46+'Enter Data Here'!$F$39 -> 74088.952 | D43: =D46+'Enter Data Here'!$F$39 -> 85433.743 | E43: =E46+'Enter Data Here'!$F$39 -> 97236.02 | F43: =F46+'Enter Data Here'!$F$39 -> 109515.5 | G43: =G46+'Enter Data Here'!$F$39 -> 122292.81 | H43: =H46+'Enter Data Here'!$F$39 -> 135589.49 | I43: =I46+'Enter Data Here'!$F$39 -> 149428.09 | J43: =J46+'Enter Data Here'!$F$39 -> 163832.19 | ... AG43: =AG46+'Enter Data Here'!$F$39 -> 470015.1
B44: Total money invested (downpayment, cc's, repairs) | C44: ='Enter Data Here'!$F$39 -> 60000 | D44: ='Enter Data Here'!$F$39 -> 60000 | E44: ='Enter Data Here'!$F$39 -> 60000 | F44: ='Enter Data Here'!$F$39 -> 60000 | G44: ='Enter Data Here'!$F$39 -> 60000 | H44: ='Enter Data Here'!$F$39 -> 60000 | I44: ='Enter Data Here'!$F$39 -> 60000 | J44: ='Enter Data Here'!$F$39 -> 60000 | ... AG44: ='Enter Data Here'!$F$39 -> 60000
B46: Total Pre-Tax Profit | C46: =C39-C41-C40-'Enter Data Here'!$F$39 -> 14088.952 | D46: =D39-D41-D40-'Enter Data Here'!$F$39 -> 25433.743 | E46: =E39-E41-E40-'Enter Data Here'!$F$39 -> 37236.02 | F46: =F39-F41-F40-'Enter Data Here'!$F$39 -> 49515.503 | G46: =G39-G41-G40-'Enter Data Here'!$F$39 -> 62292.807 | H46: =H39-H41-H40-'Enter Data Here'!$F$39 -> 75589.489 | I46: =I39-I41-I40-'Enter Data Here'!$F$39 -> 89428.092 | J46: =J39-J41-J40-'Enter Data Here'!$F$39 -> 103832.19 | ... AG46: =AG39-AG41-AG40-'Enter Data Here'!$F$39 -> 410015.1
B47: Average Cash on Cash Return Thus Far | C47: =(C42/C44)/C36 -> #VALUE! | D47: =(D42/D44)/D36 -> #VALUE! | E47: =(E42/E44)/E36 -> #VALUE! | F47: =(F42/F44)/F36 -> #VALUE! | G47: =(G42/G44)/G36 -> #VALUE! | H47: =(H42/H44)/H36 -> #VALUE! | I47: =(I42/I44)/I36 -> #VALUE! | J47: =(J42/J44)/J36 -> #VALUE! | ... AF47: =(AF42/AF44)/AF36 -> #VALUE!
B48: Compound Annual Growth Rate (GAGR) | C48: =((C42+C43)/C44)^(1/C36)-1 -> #VALUE! | D48: =((D42+D43)/D44)^(1/D36)-1 -> #VALUE! | E48: =((E42+E43)/E44)^(1/E36)-1 -> #VALUE! | F48: =((F42+F43)/F44)^(1/F36)-1 -> #VALUE! | G48: =((G42+G43)/G44)^(1/G36)-1 -> #VALUE! | H48: =((H42+H43)/H44)^(1/H36)-1 -> #VALUE! | I48: =((I42+I43)/I44)^(1/I36)-1 -> #VALUE! | J48: =((J42+J43)/J44)^(1/J36)-1 -> #VALUE! | ... AF48: =((AF42+AF43)/AF44)^(1/AF36)-1 -> #VALUE!

Sheet Ignore This
I2: PMI Calculator
B3: Loan Amount | C3: ='Enter Data Here'!F31 -> 120000 | D3: 120000 | I3: Annual PMI Amount | J3: 0.0085
B4: periods | C4: ='Enter Data Here'!F35*12 -> 180 | D4: ='Enter Data Here'!F35 -> 15 | F4: Annual Growth Rate | G4: ='Enter Data Here'!L48 -> 0.03 | I4: Monthly PMI Amount | J4: =J3/12 -> 0.00070833333 | L4: =IF('Enter Data Here'!F37="yes", 'Ignore This'!J5,"$0") -> $0 | N4: ='Enter Data Here'!J46 -> Annual Rent Increase (%) | O4: ='Enter Data Here'!L46 -> 0.03
B5: rate | C5: ='Enter Data Here'!F33/12 -> 0.0041666667 | D5: ='Enter Data Here'!F33 -> 0.05 | F5: Mobthly Growth Rate | G5: =(1+G4)^(1/12)-1 -> 0.0024662698 | I5: Monthly PMI Payment | J5: =J4*C3 -> 85 | N5: ='Enter Data Here'!J48 -> Annual Property Value Increase (%) | O5: ='Enter Data Here'!L48 -> 0.03
B6: Payment | C6: =PMT(C5,C4,-C3) -> 948.95235 | I6: Upfront PMI | J6: =C3*0.0175 -> 2100 | N6: ='Enter Data Here'!J50 -> Operating Expenses Increase | O6: ='Enter Data Here'!L50 -> 0.03
A8: Month | B8: Loan Balance | C8: Pmt | D8: Interest | E8: Principal | F8: Ending Balance | G8: Property Value (Residential)
A9: 1 | B9: =C3 -> 120000 | C9: =C6 -> 948.95235 | D9: =B9*C5 -> 500 | E9: =C9-D9 -> 448.95235 | F9: =B9-E9 -> 119551.05 | G9: 150000
A10: =IF(F9>0,A9+1,"") -> 2 | B10: =IF(F9>0,F9,"") -> 119551.05 | C10: =IF(F9>0,$C$6,"") -> 948.95235 | D10: =IF(F9>0,B10*$C$5,"") -> 498.12937 | E10: =IF(F9>0,C10-D10,"") -> 450.82299 | F10: =B10-E10 -> 119100.22 | G10: =G9*(1+$G$5) -> 150369.94
A11: =IF(F10>0,A10+1,"") -> 3 | B11: =IF(F10>0,F10,"") -> 119100.22 | C11: =IF(F10>0,$C$6,"") -> 948.95235 | D11: =IF(F10>0,B11*$C$5,"") -> 496.25094 | E11: =IF(F10>0,C11-D11,"") -> 452.70142 | F11: =B11-E11 -> 118647.52 | G11: =G10*(1+$G$5) -> 150740.79
A12: =IF(F11>0,A11+1,"") -> 4 | B12: =IF(F11>0,F11,"") -> 118647.52 | C12: =IF(F11>0,$C$6,"") -> 948.95235 | D12: =IF(F11>0,B12*$C$5,"") -> 494.36468 | E12: =IF(F11>0,C12-D12,"") -> 454.58767 | F12: =B12-E12 -> 118192.94 | G12: =G11*(1+$G$5) -> 151112.56
A13: =IF(F12>0,A12+1,"") -> 5 | B13: =IF(F12>0,F12,"") -> 118192.94 | C13: =IF(F12>0,$C$6,"") -> 948.95235 | D13: =IF(F12>0,B13*$C$5,"") -> 492.47056 | E13: =IF(F12>0,C13-D13,"") -> 456.48179 | F13: =B13-E13 -> 117736.45 | G13: =G12*(1+$G$5) -> 151485.25 | J13: 1 | K13: 2 | L13: 3 | M13: =L13+1 -> 4 | N13: =M13+1 -> 5 | O13: =N13+1 -> 6 | P13: =O13+1 -> 7 | Q13: =P13+1 -> 8 | R13: =Q13+1 -> 9 | S13: =R13+1 -> 10 | T13: =S13+1 -> 11 | ... AM13: =AL13+1 -> 30
A14: =IF(F13>0,A13+1,"") -> 6 | B14: =IF(F13>0,F13,"") -> 117736.45 | C14: =IF(F13>0,$C$6,"") -> 948.95235 | D14: =IF(F13>0,B14*$C$5,"") -> 490.56856 | E14: =IF(F13>0,C14-D14,"") -> 458.38379 | F14: =B14-E14 -> 117278.07 | G14: =G13*(1+$G$5) -> 151858.85 | I14: Cash Flow | J14: ='Annual Data '!C26 -> #VALUE! | K14: ='Annual Data '!D26 -> #VALUE! | L14: ='Annual Data '!E26 -> #VALUE! | M14: ='Annual Data '!F26 -> #VALUE! | N14: ='Annual Data '!G26 -> #VALUE! | O14: ='Annual Data '!H26 -> #VALUE! | P14: ='Annual Data '!I26 -> #VALUE! | Q14: ='Annual Data '!J26 -> #VALUE! | ... AM14: ='Annual Data '!AF26 -> #VALUE!
A15: =IF(F14>0,A14+1,"") -> 7 | B15: =IF(F14>0,F14,"") -> 117278.07 | C15: =IF(F14>0,$C$6,"") -> 948.95235 | D15: =IF(F14>0,B15*$C$5,"") -> 488.65862 | E15: =IF(F14>0,C15-D15,"") -> 460.29373 | F15: =B15-E15 -> 116817.78 | G15: =G14*(1+$G$5) -> 152233.37 | I15: Sum Total CF Made | J15: =J14 -> #VALUE! | K15: =J14+K14 -> #VALUE! | L15: =J14+K14+L14 -> #VALUE! | M15: =sum($J$14:M14) -> #VALUE! | N15: =sum($J$14:N14) -> #VALUE! | O15: =sum($J$14:O14) -> #VALUE! | P15: =sum($J$14:P14) -> #VALUE! | Q15: =sum($J$14:Q14) -> #VALUE! | R15: =sum($J$14:R14) -> #VALUE! | S15: =sum($J$14:S14) -> #VALUE! | T15: =sum($J$14:T14) -> #VALUE! | ... AM15: =sum($J$14:AM14) -> #VALUE!
A16: =IF(F15>0,A15+1,"") -> 8 | B16: =IF(F15>0,F15,"") -> 116817.78 | C16: =IF(F15>0,$C$6,"") -> 948.95235 | D16: =IF(F15>0,B16*$C$5,"") -> 486.74073 | E16: =IF(F15>0,C16-D16,"") -> 462.21162 | F16: =B16-E16 -> 116355.56 | G16: =G15*(1+$G$5) -> 152608.82
A17: =IF(F16>0,A16+1,"") -> 9 | B17: =IF(F16>0,F16,"") -> 116355.56 | C17: =IF(F16>0,$C$6,"") -> 948.95235 | D17: =IF(F16>0,B17*$C$5,"") -> 484.81485 | E17: =IF(F16>0,C17-D17,"") -> 464.1375 | F17: =B17-E17 -> 115891.43 | G17: =G16*(1+$G$5) -> 152985.2
A18: =IF(F17>0,A17+1,"") -> 10 | B18: =IF(F17>0,F17,"") -> 115891.43 | C18: =IF(F17>0,$C$6,"") -> 948.95235 | D18: =IF(F17>0,B18*$C$5,"") -> 482.88095 | E18: =IF(F17>0,C18-D18,"") -> 466.07141 | F18: =B18-E18 -> 115425.36 | G18: =G17*(1+$G$5) -> 153362.5
A19: =IF(F18>0,A18+1,"") -> 11 | B19: =IF(F18>0,F18,"") -> 115425.36 | C19: =IF(F18>0,$C$6,"") -> 948.95235 | D19: =IF(F18>0,B19*$C$5,"") -> 480.93898 | E19: =IF(F18>0,C19-D19,"") -> 468.01337 | F19: =B19-E19 -> 114957.34 | G19: =G18*(1+$G$5) -> 153740.73
A20: =IF(F19>0,A19+1,"") -> 12 | B20: =IF(F19>0,F19,"") -> 114957.34 | C20: =IF(F19>0,$C$6,"") -> 948.95235 | D20: =IF(F19>0,B20*$C$5,"") -> 478.98893 | E20: =IF(F19>0,C20-D20,"") -> 469.96343 | F20: =B20-E20 -> 114487.38 | G20: =G19*(1+$G$5) -> 154119.9
A21: =IF(F20>0,A20+1,"") -> 13 | B21: =IF(F20>0,F20,"") -> 114487.38 | C21: =IF(F20>0,$C$6,"") -> 948.95235 | D21: =IF(F20>0,B21*$C$5,"") -> 477.03075 | E21: =IF(F20>0,C21-D21,"") -> 471.92161 | F21: =B21-E21 -> 114015.46 | G21: =G20*(1+$G$5) -> 154500
A22: =IF(F21>0,A21+1,"") -> 14 | B22: =IF(F21>0,F21,"") -> 114015.46 | C22: =IF(F21>0,$C$6,"") -> 948.95235 | D22: =IF(F21>0,B22*$C$5,"") -> 475.06441 | E22: =IF(F21>0,C22-D22,"") -> 473.88795 | F22: =B22-E22 -> 113541.57 | G22: =G21*(1+$G$5) -> 154881.04
A23: =IF(F22>0,A22+1,"") -> 15 | B23: =IF(F22>0,F22,"") -> 113541.57 | C23: =IF(F22>0,$C$6,"") -> 948.95235 | D23: =IF(F22>0,B23*$C$5,"") -> 473.08987 | E23: =IF(F22>0,C23-D23,"") -> 475.86248 | F23: =B23-E23 -> 113065.71 | G23: =G22*(1+$G$5) -> 155263.02
A24: =IF(F23>0,A23+1,"") -> 16 | B24: =IF(F23>0,F23,"") -> 113065.71 | C24: =IF(F23>0,$C$6,"") -> 948.95235 | D24: =IF(F23>0,B24*$C$5,"") -> 471.10711 | E24: =IF(F23>0,C24-D24,"") -> 477.84524 | F24: =B24-E24 -> 112587.86 | G24: =G23*(1+$G$5) -> 155645.94
A25: =IF(F24>0,A24+1,"") -> 17 | B25: =IF(F24>0,F24,"") -> 112587.86 | C25: =IF(F24>0,$C$6,"") -> 948.95235 | D25: =IF(F24>0,B25*$C$5,"") -> 469.11609 | E25: =IF(F24>0,C25-D25,"") -> 479.83626 | F25: =B25-E25 -> 112108.03 | G25: =G24*(1+$G$5) -> 156029.8
A26: =IF(F25>0,A25+1,"") -> 18 | B26: =IF(F25>0,F25,"") -> 112108.03 | C26: =IF(F25>0,$C$6,"") -> 948.95235 | D26: =IF(F25>0,B26*$C$5,"") -> 467.11677 | E26: =IF(F25>0,C26-D26,"") -> 481.83558 | F26: =B26-E26 -> 111626.19 | G26: =G25*(1+$G$5) -> 156414.61
A27: =IF(F26>0,A26+1,"") -> 19 | B27: =IF(F26>0,F26,"") -> 111626.19 | C27: =IF(F26>0,$C$6,"") -> 948.95235 | D27: =IF(F26>0,B27*$C$5,"") -> 465.10912 | E27: =IF(F26>0,C27-D27,"") -> 483.84323 | F27: =B27-E27 -> 111142.35 | G27: =G26*(1+$G$5) -> 156800.37
... A368: =IF(F367>0,A367+1,"") | B368: =IF(F367>0,F367,"") | C368: =IF(F367>0,$C$6,"") | D368: =IF(F367>0,B368*$C$5,"") | E368: =IF(F367>0,C368-D368,"") | F368: =B368-E368 -> 0 | G368: =G367*(1+$G$5) -> 363193.64
B369: =IF(F368>0,F368,"")
B370: =F369
C374: Loan Balance | D374: Property Value
B375: 1 | C375: =F9 -> 119551.05 | D375: {=UNIQUE(G9:G368)} -> 150000 | E375: Property Values | F375: =D375 -> 150000 | G375: =D376 -> 150369.94 | I375: =D377 -> 150740.79 | J375: =D378 -> 151112.56 | K375: =D379 -> 151485.25 | L375: =D380 -> 151858.85 | M375: =D381 -> 152233.37 | N375: =D382 -> 152608.82 | O375: =D383 -> 152985.2 | P375: =D384 -> 153362.5 | Q375: =D385 -> 153740.73 | R375: =D386 -> 154119.9 | S375: =D387 -> 154500 | T375: =D388 -> 154881.04 | U375: =D389 -> 155263.02 | V375: =D390 -> 155645.94 | W375: =D391 -> 156029.8 | X375: =D392 -> 156414.61 | Y375: =D393 -> 156800.37 | Z375: =D394 -> 157187.09 | AA375: =D395 -> 157574.75 | AB375: =D396 -> 157963.37 | AC375: =D397 -> 158352.95 | AD375: =D398 -> 158743.5 | AE375: =D399 -> 159135 | AF375: =D400 -> 159527.47 | AG375: =D401 -> 159920.91 | AH375: =D402 -> 160315.32 | AI375: =D403 -> 160710.7 | AJ375: =D404 -> 161107.05 | AK375: =D405 -> 161504.39 | AL375: =D406 -> 161902.7
B376: =B375+1 -> 2 | C376: =F21 -> 114015.46 | D376: 150369.94 | E376: Loan Balance | F376: =C375 -> 119551.05 | G376: =C376 -> 114015.46 | I376: =C377 -> 108196.66 | J376: =C378 -> 102080.15 | K376: =C379 -> 95650.719 | L376: =C380 -> 88892.342 | M376: =C381 -> 81788.194 | N376: =C382 -> 74320.585 | O376: =C383 -> 66470.918 | P376: =C384 -> 58219.648 | Q376: =C385 -> 49546.227 | R376: =C386 -> 40429.057 | S376: =C387 -> 30845.435 | T376: =C388 -> 20771.497 | U376: =C389 -> 10182.158 | V376: =C390 -> 0 | W376: =C391 -> 0 | X376: =C392 -> 0 | Y376: =C393 -> 0 | Z376: =C394 -> 0 | AA376: =C395 -> 0 | AB376: =C396 -> 0 | AC376: =C397 -> 0 | AD376: =C398 -> 0 | AE376: =C399 -> 0 | AF376: =C400 -> 0 | AG376: =C401 -> 0 | AH376: =C402 -> 0 | AI376: =C403 -> 0 | AJ376: =C404 -> 0
B377: =B376+1 -> 3 | C377: =F33 -> 108196.66 | D377: 150740.79
B378: =B377+1 -> 4 | C378: =F45 -> 102080.15 | D378: 151112.56
B379: =B378+1 -> 5 | C379: =F57 -> 95650.719 | D379: 151485.25
B380: =B379+1 -> 6 | C380: =F69 -> 88892.342 | D380: 151858.85
B381: =B380+1 -> 7 | C381: =F81 -> 81788.194 | D381: 152233.37
B382: =B381+1 -> 8 | C382: =F93 -> 74320.585 | D382: 152608.82
B383: =B382+1 -> 9 | C383: =F105 -> 66470.918 | D383: 152985.2 | G383: Cash Flow Matrix | I383: 1 | J383: =I383+1 -> 2 | K383: =J383+1 -> 3 | L383: =K383+1 -> 4 | M383: =L383+1 -> 5 | N383: =M383+1 -> 6 | O383: =N383+1 -> 7 | P383: =O383+1 -> 8 | Q383: =P383+1 -> 9 | ... AL383: =AK383+1 -> 30
B384: =B383+1 -> 10 | C384: =F117 -> 58219.648 | D384: 153362.5 | G384: 0 | I384: ='Enter Data Here'!F39 -> 60000
B385: =B384+1 -> 11 | C385: =F129 -> 49546.227 | D385: 153740.73 | G385: 1 | I385: ='Annual Data '!C26+'Annual Data '!C46 -> #VALUE!
...
